BEGIN:VCALENDAR
VERSION:2.0
PRODID:-//Sabre//Sabre VObject 4.5.8//EN
CALSCALE:GREGORIAN
BEGIN:VEVENT
UID:sabre-vobject-315991a1-797c-462b-b02b-9fd88d5f078a
DTSTAMP:20260424T041740Z
SUMMARY:Jahresausstellung des Neuburger Kunstkreises e.V.
DESCRIPTION:https://neuburgpuls.de/jahresausstellung-des-neuburger-kunstkre
 ises-e-v_id49001
DTSTART;TZID=Europe/Berlin:20260912T100000
DTEND;TZID=Europe/Berlin:20260912T190000
LOCATION:Städtische Galerie im Fürstengang und Rathausfletz\, \, 86633 Ne
 uburg an der Donau
END:VEVENT
END:VCALENDAR
