BEGIN:VCALENDAR
VERSION:2.0
PRODID:-//Sabre//Sabre VObject 4.5.8//EN
CALSCALE:GREGORIAN
BEGIN:VEVENT
UID:sabre-vobject-d915d540-d0c5-4ece-b765-3902949d5446
DTSTAMP:20260424T030547Z
SUMMARY:Jahresausstellung des Neuburger Kunstkreises e.V.
DESCRIPTION:https://neuburgpuls.de/jahresausstellung-des-neuburger-kunstkre
 ises-e-v_id48999
DTSTART;TZID=Europe/Berlin:20260918T170000
DTEND;TZID=Europe/Berlin:20260918T190000
LOCATION:Städtische Galerie im Fürstengang und Rathausfletz\, \, 86633 Ne
 uburg an der Donau
END:VEVENT
END:VCALENDAR
