BEGIN:VCALENDAR
VERSION:2.0
PRODID:-//Sabre//Sabre VObject 4.5.8//EN
CALSCALE:GREGORIAN
BEGIN:VEVENT
UID:sabre-vobject-abbd99c6-3dcc-4b95-84e1-e1a01f7d56c8
DTSTAMP:20260424T041713Z
SUMMARY:Jahresausstellung des Neuburger Kunstkreises e.V.
DESCRIPTION:https://neuburgpuls.de/jahresausstellung-des-neuburger-kunstkre
 ises-e-v_id48998
DTSTART;TZID=Europe/Berlin:20260911T170000
DTEND;TZID=Europe/Berlin:20260911T190000
LOCATION:Städtische Galerie im Fürstengang und Rathausfletz\, \, 86633 Ne
 uburg an der Donau
END:VEVENT
END:VCALENDAR
