BEGIN:VCALENDAR
VERSION:2.0
PRODID:-//Sabre//Sabre VObject 4.5.8//EN
CALSCALE:GREGORIAN
BEGIN:VEVENT
UID:sabre-vobject-9c5323cc-a28e-4fd9-b1cf-f4b8ec978fd2
DTSTAMP:20260422T084313Z
SUMMARY:180 Jahre Schützenverein "Erheiterung" Neuburg
DESCRIPTION:https://neuburgpuls.de/180-jahre-schuetzenverein-erheiterung-ne
 uburg_id48137
DTSTART;TZID=Europe/Berlin:20251121T100000
DTEND;TZID=Europe/Berlin:20251121T180000
LOCATION:Stadtmuseum Neuburg an der Donau\, Amalienstraße  19\, 86633 Neub
 urg an der Donau
END:VEVENT
END:VCALENDAR
