BEGIN:VCALENDAR
VERSION:2.0
PRODID:-//Sabre//Sabre VObject 4.5.8//EN
CALSCALE:GREGORIAN
BEGIN:VEVENT
UID:sabre-vobject-7746b5c5-adcd-477e-ba42-a72864a6af3b
DTSTAMP:20260422T100402Z
SUMMARY:Erstberatung des Gründertreffs Neuburg
DESCRIPTION:https://neuburgpuls.de/erstberatung-des-gruendertreffs-neuburg_
 id41361
DTSTART;TZID=Europe/Berlin:20260319T170000
DTEND;TZID=Europe/Berlin:20260319T190000
LOCATION:das otto\, Schmidstraße 113\, 86633 Neuburg an der Donau
END:VEVENT
END:VCALENDAR
