BEGIN:VCALENDAR
VERSION:2.0
PRODID:-//Sabre//Sabre VObject 4.5.8//EN
CALSCALE:GREGORIAN
BEGIN:VEVENT
UID:sabre-vobject-659c5fb8-ce03-420e-9fe0-2e04f009e3e4
DTSTAMP:20260422T113156Z
SUMMARY:Erstberatung des Gründertreffs Neuburg
DESCRIPTION:https://neuburgpuls.de/erstberatung-des-gruendertreffs-neuburg_
 id41360
DTSTART;TZID=Europe/Berlin:20260305T170000
DTEND;TZID=Europe/Berlin:20260305T190000
LOCATION:das otto\, Schmidstraße 113\, 86633 Neuburg an der Donau
END:VEVENT
END:VCALENDAR
