BEGIN:VCALENDAR
VERSION:2.0
PRODID:-//Sabre//Sabre VObject 4.5.8//EN
CALSCALE:GREGORIAN
BEGIN:VEVENT
UID:sabre-vobject-61514182-336b-4463-af68-2bfe87a214d0
DTSTAMP:20260422T082728Z
SUMMARY:Familienmittwoch | Hinter den Kulissen des Schlosses
DESCRIPTION:https://neuburgpuls.de/familienmittwoch-hinter-den-kulissen-des
 -schlosses_id40869
DTSTART;TZID=Europe/Berlin:20250910T094500
DURATION:PT30M
LOCATION:Residenzschloss Neuburg\, Residenzstraße 2\, 86633 Neuburg an der
  Donau
END:VEVENT
END:VCALENDAR
