BEGIN:VCALENDAR
VERSION:2.0
PRODID:-//Sabre//Sabre VObject 4.5.8//EN
CALSCALE:GREGORIAN
BEGIN:VEVENT
UID:sabre-vobject-e00d1854-f099-463f-9669-99d6c3ecd1b2
DTSTAMP:20260422T095325Z
SUMMARY:Mut zum Hut
DESCRIPTION:https://neuburgpuls.de/mut-zum-hut_id32476
DTSTART;TZID=Europe/Berlin:20260912T100000
DTEND;TZID=Europe/Berlin:20260912T200000
LOCATION:Residenzschloss Neuburg\, Residenzstraße 2\, 86633 Neuburg an der
  Donau
END:VEVENT
END:VCALENDAR
